BEGIN:VCALENDAR
VERSION:2.0
PRODID:-//Entente Nautique Aviron d&#039;Aix-les-Bains - ECPv6.6.3//NONSGML v1.0//EN
CALSCALE:GREGORIAN
METHOD:PUBLISH
X-WR-CALNAME:Entente Nautique Aviron d&#039;Aix-les-Bains
X-ORIGINAL-URL:https://avironaix.fr
X-WR-CALDESC:évènements pour Entente Nautique Aviron d&#039;Aix-les-Bains
REFRESH-INTERVAL;VALUE=DURATION:PT1H
X-Robots-Tag:noindex
X-PUBLISHED-TTL:PT1H
BEGIN:VTIMEZONE
TZID:Europe/Paris
BEGIN:DAYLIGHT
TZOFFSETFROM:+0100
TZOFFSETTO:+0200
TZNAME:CEST
DTSTART:20260329T010000
END:DAYLIGHT
BEGIN:STANDARD
TZOFFSETFROM:+0200
TZOFFSETTO:+0100
TZNAME:CET
DTSTART:20261025T010000
END:STANDARD
END:VTIMEZONE
BEGIN:VEVENT
DTSTART;VALUE=DATE:20260307
DTEND;VALUE=DATE:20260309
DTSTAMP:20260421T172403
CREATED:20251113T174331Z
LAST-MODIFIED:20251113T174502Z
UID:8873-1772841600-1773014399@avironaix.fr
SUMMARY:Championnats de France longue distance à Mâcon.
DESCRIPTION: A Mâcon le 07 et 8 mars 2026 à lieu les championnats de France longue distance destiné aux catégories suivantes: U19\, Senior\, Master et aviron partagé.
URL:https://avironaix.fr/event/championnats-de-france-longue-distance-a-macon/
LOCATION:Macon\, 389 AVENUE MARECHAL DE LATTRE DE TASSIGNY CENTRE PAUL BERT\, MÂCON\, 71000\, France
CATEGORIES:Calendriers Evènements
END:VEVENT
BEGIN:VEVENT
DTSTART;VALUE=DATE:20260314
DTEND;VALUE=DATE:20260516
DTSTAMP:20260421T172403
CREATED:20251113T181428Z
LAST-MODIFIED:20251113T181428Z
UID:8878-1773446400-1778889599@avironaix.fr
SUMMARY:Championnats de zone bateaux courts
DESCRIPTION:Championnats de zone bateaux courts le 14 et 15 mars 2026 à Aiguebelette.\n \n 
URL:https://avironaix.fr/event/championnats-de-zone-bateaux-courts/
LOCATION:Aiguebelette\, 1011 rte Plages\, Novalaise\, 73470\, France
CATEGORIES:Calendriers Evènements
END:VEVENT
BEGIN:VEVENT
DTSTART;VALUE=DATE:20260322
DTEND;VALUE=DATE:20260323
DTSTAMP:20260421T172403
CREATED:20251113T183531Z
LAST-MODIFIED:20251113T183549Z
UID:8882-1774137600-1774223999@avironaix.fr
SUMMARY:Régate de Chambéry
DESCRIPTION:Régate du  Club Nautique Chambéry Bourget du Lac dimanche 22 mars 2026.
URL:https://avironaix.fr/event/regate-de-chambery/
LOCATION:Chambéry\, 711 boulevard du Lac\, Le Bourget-du-Lac\, 73370\, France
CATEGORIES:Calendriers Evènements
END:VEVENT
BEGIN:VEVENT
DTSTART;VALUE=DATE:20260325
DTEND;VALUE=DATE:20260530
DTSTAMP:20260421T172403
CREATED:20251115T081438Z
LAST-MODIFIED:20251115T082020Z
UID:8886-1774396800-1780099199@avironaix.fr
SUMMARY:championnats de France bateaux courts
DESCRIPTION:Championnats de France bateau courts à Cazaubon du 25 au 29 mars 2026
URL:https://avironaix.fr/event/championnats-de-france-bateaux-courts/
LOCATION:Cazaubon\, Lac de l'Uby\, 1784\, Avenue du Lac\,\, Cazaubon\, 32150
CATEGORIES:Calendriers Evènements
END:VEVENT
END:VCALENDAR